BEGIN:VCALENDAR
VERSION:2.0
PRODID:icalendar-ruby
CALSCALE:GREGORIAN
METHOD:PUBLISH
BEGIN:VEVENT
DTSTAMP:20260423T205832Z
UID:5-404456@joinusatfaithbaptist.org
DTSTART:20241117T153000Z
DTEND:20241117T163000Z
CLASS:PUBLIC
CREATED:20260423T163613
DESCRIPTION:Sunday Worship
LAST-MODIFIED:20260423T163613
LOCATION:
SUMMARY:Sunday Worship
URL;VALUE=URI:https://joinusatfaithbaptist.org/events/sunday-worship/2024-1
 1-17
END:VEVENT
END:VCALENDAR
