BEGIN:VCALENDAR
VERSION:2.0
PRODID:icalendar-ruby
CALSCALE:GREGORIAN
METHOD:PUBLISH
BEGIN:VEVENT
DTSTAMP:20260423T153504Z
UID:5-403931@joinusatfaithbaptist.org
DTSTART:20241027T143000Z
DTEND:20241027T153000Z
CLASS:PUBLIC
CREATED:20260423T104453
DESCRIPTION:Sunday Worship
LAST-MODIFIED:20260423T104453
LOCATION:
SUMMARY:Sunday Worship
URL;VALUE=URI:https://joinusatfaithbaptist.org/events/sunday-worship/2024-1
 0-27
END:VEVENT
END:VCALENDAR
