BEGIN:VCALENDAR
VERSION:2.0
PRODID:icalendar-ruby
CALSCALE:GREGORIAN
METHOD:PUBLISH
BEGIN:VEVENT
DTSTAMP:20260423T115450Z
UID:5-403668@joinusatfaithbaptist.org
DTSTART:20241013T143000Z
DTEND:20241013T153000Z
CLASS:PUBLIC
CREATED:20260423T075137
DESCRIPTION:Sunday Worship
LAST-MODIFIED:20260423T075137
LOCATION:
SUMMARY:Sunday Worship
URL;VALUE=URI:https://joinusatfaithbaptist.org/events/sunday-worship/2024-1
 0-13
END:VEVENT
END:VCALENDAR
