BEGIN:VCALENDAR
VERSION:2.0
PRODID:icalendar-ruby
CALSCALE:GREGORIAN
METHOD:PUBLISH
BEGIN:VEVENT
DTSTAMP:20260423T015335Z
UID:5-403139@joinusatfaithbaptist.org
DTSTART:20240825T143000Z
DTEND:20240825T153000Z
CLASS:PUBLIC
CREATED:20260422T192828
DESCRIPTION:Sunday Worship
LAST-MODIFIED:20260422T192828
LOCATION:
SUMMARY:Sunday Worship
URL;VALUE=URI:https://joinusatfaithbaptist.org/events/sunday-worship/2024-0
 8-25
END:VEVENT
END:VCALENDAR
