BEGIN:VCALENDAR
VERSION:2.0
PRODID:icalendar-ruby
CALSCALE:GREGORIAN
METHOD:PUBLISH
BEGIN:VEVENT
DTSTAMP:20260423T000320Z
UID:5-403138@joinusatfaithbaptist.org
DTSTART:20240818T143000Z
DTEND:20240818T153000Z
CLASS:PUBLIC
CREATED:20260422T192828
DESCRIPTION:Sunday Worship
LAST-MODIFIED:20260422T192828
LOCATION:
SUMMARY:Sunday Worship
URL;VALUE=URI:https://joinusatfaithbaptist.org/events/sunday-worship/2024-0
 8-18
END:VEVENT
END:VCALENDAR
