BEGIN:VCALENDAR
VERSION:2.0
PRODID:icalendar-ruby
CALSCALE:GREGORIAN
METHOD:PUBLISH
BEGIN:VEVENT
DTSTAMP:20260422T221250Z
UID:5-402876@joinusatfaithbaptist.org
DTSTART:20240811T143000Z
DTEND:20240811T153000Z
CLASS:PUBLIC
CREATED:20260422T163604
DESCRIPTION:Sunday Worship
LAST-MODIFIED:20260422T163604
LOCATION:
SUMMARY:Sunday Worship
URL;VALUE=URI:https://joinusatfaithbaptist.org/events/sunday-worship/2024-0
 8-11
END:VEVENT
END:VCALENDAR
