BEGIN:VCALENDAR
VERSION:2.0
PRODID:icalendar-ruby
CALSCALE:GREGORIAN
METHOD:PUBLISH
BEGIN:VEVENT
DTSTAMP:20260422T203511Z
UID:5-402614@joinusatfaithbaptist.org
DTSTART:20240804T143000Z
DTEND:20240804T153000Z
CLASS:PUBLIC
CREATED:20260422T134058
DESCRIPTION:Sunday Worship
LAST-MODIFIED:20260422T134058
LOCATION:
SUMMARY:Sunday Worship
URL;VALUE=URI:https://joinusatfaithbaptist.org/events/sunday-worship/2024-0
 8-04
END:VEVENT
END:VCALENDAR
