BEGIN:VCALENDAR
VERSION:2.0
PRODID:icalendar-ruby
CALSCALE:GREGORIAN
METHOD:PUBLISH
BEGIN:VEVENT
DTSTAMP:20260422T184312Z
UID:5-402613@joinusatfaithbaptist.org
DTSTART:20240728T143000Z
DTEND:20240728T153000Z
CLASS:PUBLIC
CREATED:20260422T134058
DESCRIPTION:Sunday Worship
LAST-MODIFIED:20260422T134058
LOCATION:
SUMMARY:Sunday Worship
URL;VALUE=URI:https://joinusatfaithbaptist.org/events/sunday-worship/2024-0
 7-28
END:VEVENT
END:VCALENDAR
