BEGIN:VCALENDAR
VERSION:2.0
PRODID:icalendar-ruby
CALSCALE:GREGORIAN
METHOD:PUBLISH
BEGIN:VEVENT
DTSTAMP:20260422T164640Z
UID:5-402351@joinusatfaithbaptist.org
DTSTART:20240721T143000Z
DTEND:20240721T153000Z
CLASS:PUBLIC
CREATED:20260422T104543
DESCRIPTION:Sunday Worship
LAST-MODIFIED:20260422T104543
LOCATION:
SUMMARY:Sunday Worship
URL;VALUE=URI:https://joinusatfaithbaptist.org/events/sunday-worship/2024-0
 7-21
END:VEVENT
END:VCALENDAR
