BEGIN:VCALENDAR
VERSION:2.0
PRODID:icalendar-ruby
CALSCALE:GREGORIAN
METHOD:PUBLISH
BEGIN:VEVENT
DTSTAMP:20260422T134048Z
UID:5-402088@joinusatfaithbaptist.org
DTSTART:20240707T143000Z
DTEND:20240707T153000Z
CLASS:PUBLIC
CREATED:20260422T075050
DESCRIPTION:Sunday Worship
LAST-MODIFIED:20260422T075050
LOCATION:
SUMMARY:Sunday Worship
URL;VALUE=URI:https://joinusatfaithbaptist.org/events/sunday-worship/2024-0
 7-07
END:VEVENT
END:VCALENDAR
