BEGIN:VCALENDAR
VERSION:2.0
PRODID:icalendar-ruby
CALSCALE:GREGORIAN
METHOD:PUBLISH
BEGIN:VEVENT
DTSTAMP:20260422T084312Z
UID:5-401824@joinusatfaithbaptist.org
DTSTART:20240616T143000Z
DTEND:20240616T153000Z
CLASS:PUBLIC
CREATED:20260421T204713
DESCRIPTION:Sunday Worship
LAST-MODIFIED:20260421T204713
LOCATION:
SUMMARY:Sunday Worship
URL;VALUE=URI:https://joinusatfaithbaptist.org/events/sunday-worship/2024-0
 6-16
END:VEVENT
END:VCALENDAR
