BEGIN:VCALENDAR
VERSION:2.0
PRODID:icalendar-ruby
CALSCALE:GREGORIAN
METHOD:PUBLISH
BEGIN:VEVENT
DTSTAMP:20260422T040418Z
UID:5-401821@joinusatfaithbaptist.org
DTSTART:20240526T143000Z
DTEND:20240526T153000Z
CLASS:PUBLIC
CREATED:20260421T204713
DESCRIPTION:Sunday Worship
LAST-MODIFIED:20260421T204713
LOCATION:
SUMMARY:Sunday Worship
URL;VALUE=URI:https://joinusatfaithbaptist.org/events/sunday-worship/2024-0
 5-26
END:VEVENT
END:VCALENDAR
