BEGIN:VCALENDAR
VERSION:2.0
PRODID:icalendar-ruby
CALSCALE:GREGORIAN
METHOD:PUBLISH
BEGIN:VEVENT
DTSTAMP:20260421T230620Z
UID:5-401557@joinusatfaithbaptist.org
DTSTART:20240505T143000Z
DTEND:20240505T153000Z
CLASS:PUBLIC
CREATED:20260421T180837
DESCRIPTION:Sunday Worship
LAST-MODIFIED:20260421T180837
LOCATION:
SUMMARY:Sunday Worship
URL;VALUE=URI:https://joinusatfaithbaptist.org/events/sunday-worship/2024-0
 5-05
END:VEVENT
END:VCALENDAR
