BEGIN:VCALENDAR
VERSION:2.0
PRODID:icalendar-ruby
CALSCALE:GREGORIAN
METHOD:PUBLISH
BEGIN:VEVENT
DTSTAMP:20260421T180329Z
UID:5-401032@joinusatfaithbaptist.org
DTSTART:20240414T143000Z
DTEND:20240414T153000Z
CLASS:PUBLIC
CREATED:20260421T125353
DESCRIPTION:Sunday Worship
LAST-MODIFIED:20260421T125353
LOCATION:
SUMMARY:Sunday Worship
URL;VALUE=URI:https://joinusatfaithbaptist.org/events/sunday-worship/2024-0
 4-14
END:VEVENT
END:VCALENDAR
