BEGIN:VCALENDAR
VERSION:2.0
PRODID:icalendar-ruby
CALSCALE:GREGORIAN
METHOD:PUBLISH
BEGIN:VEVENT
DTSTAMP:20260421T150017Z
UID:5-400769@joinusatfaithbaptist.org
DTSTART:20240331T143000Z
DTEND:20240331T153000Z
CLASS:PUBLIC
CREATED:20260421T101504
DESCRIPTION:Sunday Worship
LAST-MODIFIED:20260421T101504
LOCATION:
SUMMARY:Sunday Worship
URL;VALUE=URI:https://joinusatfaithbaptist.org/events/sunday-worship/2024-0
 3-31
END:VEVENT
END:VCALENDAR
