BEGIN:VCALENDAR
VERSION:2.0
PRODID:icalendar-ruby
CALSCALE:GREGORIAN
METHOD:PUBLISH
BEGIN:VEVENT
DTSTAMP:20260421T100010Z
UID:5-400244@joinusatfaithbaptist.org
DTSTART:20240310T143000Z
DTEND:20240310T153000Z
CLASS:PUBLIC
CREATED:20260420T203300
DESCRIPTION:Sunday Worship
LAST-MODIFIED:20260420T203300
LOCATION:
SUMMARY:Sunday Worship
URL;VALUE=URI:https://joinusatfaithbaptist.org/events/sunday-worship/2024-0
 3-10
END:VEVENT
END:VCALENDAR
