BEGIN:VCALENDAR
VERSION:2.0
PRODID:icalendar-ruby
CALSCALE:GREGORIAN
METHOD:PUBLISH
BEGIN:VEVENT
DTSTAMP:20260423T085433Z
UID:5-403375@joinusatfaithbaptist.org
DTSTART:20240303T153000Z
DTEND:20240303T163000Z
CLASS:PUBLIC
CREATED:20260422T222146
DESCRIPTION:Sunday Worship
LAST-MODIFIED:20260422T222146
LOCATION:
SUMMARY:Sunday Worship
URL;VALUE=URI:https://joinusatfaithbaptist.org/events/sunday-worship/2024-0
 3-03
END:VEVENT
END:VCALENDAR
