BEGIN:VCALENDAR
VERSION:2.0
PRODID:icalendar-ruby
CALSCALE:GREGORIAN
METHOD:PUBLISH
BEGIN:VEVENT
DTSTAMP:20260421T014815Z
UID:5-400239@joinusatfaithbaptist.org
DTSTART:20240204T153000Z
DTEND:20240204T163000Z
CLASS:PUBLIC
CREATED:20260420T203300
DESCRIPTION:Sunday Worship
LAST-MODIFIED:20260420T203300
LOCATION:
SUMMARY:Sunday Worship
URL;VALUE=URI:https://joinusatfaithbaptist.org/events/sunday-worship/2024-0
 2-04
END:VEVENT
END:VCALENDAR
