BEGIN:VCALENDAR
VERSION:2.0
PRODID:icalendar-ruby
CALSCALE:GREGORIAN
METHOD:PUBLISH
BEGIN:VEVENT
DTSTAMP:20260421T000337Z
UID:5-399977@joinusatfaithbaptist.org
DTSTART:20240128T153000Z
DTEND:20240128T163000Z
CLASS:PUBLIC
CREATED:20260420T175806
DESCRIPTION:Sunday Worship
LAST-MODIFIED:20260420T175806
LOCATION:
SUMMARY:Sunday Worship
URL;VALUE=URI:https://joinusatfaithbaptist.org/events/sunday-worship/2024-0
 1-28
END:VEVENT
END:VCALENDAR
