BEGIN:VCALENDAR
VERSION:2.0
PRODID:icalendar-ruby
CALSCALE:GREGORIAN
METHOD:PUBLISH
BEGIN:VEVENT
DTSTAMP:20260420T220327Z
UID:5-399976@joinusatfaithbaptist.org
DTSTART:20240121T153000Z
DTEND:20240121T163000Z
CLASS:PUBLIC
CREATED:20260420T175806
DESCRIPTION:Sunday Worship
LAST-MODIFIED:20260420T175806
LOCATION:
SUMMARY:Sunday Worship
URL;VALUE=URI:https://joinusatfaithbaptist.org/events/sunday-worship/2024-0
 1-21
END:VEVENT
END:VCALENDAR
