BEGIN:VCALENDAR
VERSION:2.0
PRODID:icalendar-ruby
CALSCALE:GREGORIAN
METHOD:PUBLISH
BEGIN:VEVENT
DTSTAMP:20260420T162733Z
UID:5-399190@joinusatfaithbaptist.org
DTSTART:20231231T153000Z
DTEND:20231231T163000Z
CLASS:PUBLIC
CREATED:20260420T101330
DESCRIPTION:Sunday Worship
LAST-MODIFIED:20260420T101330
LOCATION:
SUMMARY:Sunday Worship
URL;VALUE=URI:https://joinusatfaithbaptist.org/events/sunday-worship/2023-1
 2-31
END:VEVENT
END:VCALENDAR
