BEGIN:VCALENDAR
VERSION:2.0
PRODID:icalendar-ruby
CALSCALE:GREGORIAN
METHOD:PUBLISH
BEGIN:VEVENT
DTSTAMP:20260420T120641Z
UID:5-398926@joinusatfaithbaptist.org
DTSTART:20231210T153000Z
DTEND:20231210T163000Z
CLASS:PUBLIC
CREATED:20260420T073753
DESCRIPTION:Sunday Worship
LAST-MODIFIED:20260420T073753
LOCATION:
SUMMARY:Sunday Worship
URL;VALUE=URI:https://joinusatfaithbaptist.org/events/sunday-worship/2023-1
 2-10
END:VEVENT
END:VCALENDAR
