BEGIN:VCALENDAR
VERSION:2.0
PRODID:icalendar-ruby
CALSCALE:GREGORIAN
METHOD:PUBLISH
BEGIN:VEVENT
DTSTAMP:20260420T103640Z
UID:5-398664@joinusatfaithbaptist.org
DTSTART:20231203T153000Z
DTEND:20231203T163000Z
CLASS:PUBLIC
CREATED:20260420T024430
DESCRIPTION:Sunday Worship
LAST-MODIFIED:20260420T024430
LOCATION:
SUMMARY:Sunday Worship
URL;VALUE=URI:https://joinusatfaithbaptist.org/events/sunday-worship/2023-1
 2-03
END:VEVENT
END:VCALENDAR
